BEGIN:VCALENDAR
VERSION:2.0
PRODID:-//sg-journal.de - ECPv6.15.20//NONSGML v1.0//EN
CALSCALE:GREGORIAN
METHOD:PUBLISH
X-ORIGINAL-URL:https://sg-journal.de
X-WR-CALDESC:Veranstaltungen für sg-journal.de
REFRESH-INTERVAL;VALUE=DURATION:PT1H
X-Robots-Tag:noindex
X-PUBLISHED-TTL:PT1H
BEGIN:VTIMEZONE
TZID:Europe/Berlin
BEGIN:DAYLIGHT
TZOFFSETFROM:+0100
TZOFFSETTO:+0200
TZNAME:CEST
DTSTART:20240331T010000
END:DAYLIGHT
BEGIN:STANDARD
TZOFFSETFROM:+0200
TZOFFSETTO:+0100
TZNAME:CET
DTSTART:20241027T010000
END:STANDARD
BEGIN:DAYLIGHT
TZOFFSETFROM:+0100
TZOFFSETTO:+0200
TZNAME:CEST
DTSTART:20250330T010000
END:DAYLIGHT
BEGIN:STANDARD
TZOFFSETFROM:+0200
TZOFFSETTO:+0100
TZNAME:CET
DTSTART:20251026T010000
END:STANDARD
BEGIN:DAYLIGHT
TZOFFSETFROM:+0100
TZOFFSETTO:+0200
TZNAME:CEST
DTSTART:20260329T010000
END:DAYLIGHT
BEGIN:STANDARD
TZOFFSETFROM:+0200
TZOFFSETTO:+0100
TZNAME:CET
DTSTART:20261025T010000
END:STANDARD
END:VTIMEZONE
BEGIN:VEVENT
DTSTART;TZID=Europe/Berlin:20250706T150000
DTEND;TZID=Europe/Berlin:20250706T164500
DTSTAMP:20260423T131308
CREATED:20250624T112434Z
LAST-MODIFIED:20250627T161917Z
UID:3342-1751814000-1751820300@sg-journal.de
SUMMARY:Friendly Match: Friedrichweiler
DESCRIPTION:SG St.Nikolaus – SV Friedrichweiler\n— Sportfeld Wiesental\, Karlsbrunn —\nKick Off: 15:00 Uhr
URL:https://sg-journal.de/event/friendly-match-friedrichweiler/
LOCATION:Sportplatz „Wiesental“\, Karlsbrunn\, 49.17538470109004\, 6.807385043159155
ATTACH;FMTTYPE=image/png:https://sg-journal.de/wp-content/uploads/2025/06/Spielankuendigung_Friedrichweiler.png
END:VEVENT
END:VCALENDAR