BEGIN:VCALENDAR
VERSION:2.0
PRODID:-//sg-journal.de - ECPv6.15.20//NONSGML v1.0//EN
CALSCALE:GREGORIAN
METHOD:PUBLISH
X-WR-CALNAME:sg-journal.de
X-ORIGINAL-URL:https://sg-journal.de
X-WR-CALDESC:Veranstaltungen für sg-journal.de
REFRESH-INTERVAL;VALUE=DURATION:PT1H
X-Robots-Tag:noindex
X-PUBLISHED-TTL:PT1H
BEGIN:VTIMEZONE
TZID:Europe/Berlin
BEGIN:DAYLIGHT
TZOFFSETFROM:+0100
TZOFFSETTO:+0200
TZNAME:CEST
DTSTART:20240331T010000
END:DAYLIGHT
BEGIN:STANDARD
TZOFFSETFROM:+0200
TZOFFSETTO:+0100
TZNAME:CET
DTSTART:20241027T010000
END:STANDARD
BEGIN:DAYLIGHT
TZOFFSETFROM:+0100
TZOFFSETTO:+0200
TZNAME:CEST
DTSTART:20250330T010000
END:DAYLIGHT
BEGIN:STANDARD
TZOFFSETFROM:+0200
TZOFFSETTO:+0100
TZNAME:CET
DTSTART:20251026T010000
END:STANDARD
BEGIN:DAYLIGHT
TZOFFSETFROM:+0100
TZOFFSETTO:+0200
TZNAME:CEST
DTSTART:20260329T010000
END:DAYLIGHT
BEGIN:STANDARD
TZOFFSETFROM:+0200
TZOFFSETTO:+0100
TZNAME:CET
DTSTART:20261025T010000
END:STANDARD
BEGIN:DAYLIGHT
TZOFFSETFROM:+0100
TZOFFSETTO:+0200
TZNAME:CEST
DTSTART:20270328T010000
END:DAYLIGHT
BEGIN:STANDARD
TZOFFSETFROM:+0200
TZOFFSETTO:+0100
TZNAME:CET
DTSTART:20271031T010000
END:STANDARD
END:VTIMEZONE
BEGIN:VTIMEZONE
TZID:UTC
BEGIN:STANDARD
TZOFFSETFROM:+0000
TZOFFSETTO:+0000
TZNAME:UTC
DTSTART:20240101T000000
END:STANDARD
END:VTIMEZONE
BEGIN:VEVENT
DTSTART;TZID=Europe/Berlin:20260315T150000
DTEND;TZID=Europe/Berlin:20260315T170000
DTSTAMP:20260422T142217
CREATED:20260217T150759Z
LAST-MODIFIED:20260217T151841Z
UID:5085-1773586800-1773594000@sg-journal.de
SUMMARY:Matchday 23: Bezirksliga Röchling Völklingen
DESCRIPTION:
URL:https://sg-journal.de/event/matchday-23-bezirksliga-roechling-voelklingen/
LOCATION:Sportfeld „Waldeck“\, St.Nikolaus\, Merlebacher Str.\, Großrosseln\, Saarland\, 66352\, Germany
END:VEVENT
BEGIN:VEVENT
DTSTART;TZID=Europe/Berlin:20260315T131500
DTEND;TZID=Europe/Berlin:20260315T150000
DTSTAMP:20260422T142217
CREATED:20260217T150643Z
LAST-MODIFIED:20260217T150643Z
UID:5083-1773580500-1773586800@sg-journal.de
SUMMARY:Matchday 23: Kreisliga Röchling Völklingen II.
DESCRIPTION:
URL:https://sg-journal.de/event/matchday-23-kreisliga-roechling-voelklingen-ii/
LOCATION:Sportfeld „Waldeck“\, St.Nikolaus\, Merlebacher Str.\, Großrosseln\, Saarland\, 66352\, Germany
END:VEVENT
BEGIN:VEVENT
DTSTART;TZID=Europe/Berlin:20260308T131500
DTEND;TZID=Europe/Berlin:20260308T150000
DTSTAMP:20260422T142217
CREATED:20260217T145600Z
LAST-MODIFIED:20260217T145600Z
UID:5078-1772975700-1772982000@sg-journal.de
SUMMARY:Matchday 22: Bezirkliga FC Kandil II.
DESCRIPTION:
URL:https://sg-journal.de/event/matchday-22-bezirkliga-fc-kandil-ii/
LOCATION:Sportplatz Herm.-R.-Höhe
CATEGORIES:Bezirksliga 25/26
ATTACH;FMTTYPE=image/png:https://sg-journal.de/wp-content/uploads/2026/02/Matchday_22_1.png
END:VEVENT
BEGIN:VEVENT
DTSTART;TZID=Europe/Berlin:20260301T150000
DTEND;TZID=Europe/Berlin:20260301T170000
DTSTAMP:20260422T142217
CREATED:20260217T144412Z
LAST-MODIFIED:20260217T145049Z
UID:5071-1772377200-1772384400@sg-journal.de
SUMMARY:Matchday 21: Bezirksliga SG Fenne-Fürstenhausen
DESCRIPTION:  \n  \nGipfeltreffen: Unbezwingbares Bollwerk gegen Tor-Power!?
URL:https://sg-journal.de/event/matchday-21-sg-fenne-fuerstenhausen/
LOCATION:Sportfeld „Waldeck“\, St.Nikolaus\, Merlebacher Str.\, Großrosseln\, Saarland\, 66352\, Germany
CATEGORIES:Bezirksliga 25/26
ATTACH;FMTTYPE=image/png:https://sg-journal.de/wp-content/uploads/2025/12/2526_21_Fuerstenhausen.png
END:VEVENT
BEGIN:VEVENT
DTSTART;TZID=Europe/Berlin:20260301T131500
DTEND;TZID=Europe/Berlin:20260301T150000
DTSTAMP:20260422T142217
CREATED:20260217T145254Z
LAST-MODIFIED:20260217T145254Z
UID:5076-1772370900-1772377200@sg-journal.de
SUMMARY:Matchday 21: Kreisliga A SG Fenne-Fürstenhausen
DESCRIPTION:
URL:https://sg-journal.de/event/matchday-21-kreisliga-a-sg-fenne-fuerstenhausen/
LOCATION:Sportfeld „Waldeck“\, St.Nikolaus\, Merlebacher Str.\, Großrosseln\, Saarland\, 66352\, Germany
CATEGORIES:Kreisliga 25/26
ATTACH;FMTTYPE=image/png:https://sg-journal.de/wp-content/uploads/2025/12/2526_21_Fuerstenhausen.png
END:VEVENT
BEGIN:VEVENT
DTSTART;TZID=Europe/Berlin:20251012T150000
DTEND;TZID=Europe/Berlin:20251012T170000
DTSTAMP:20260422T142217
CREATED:20250912T073545Z
LAST-MODIFIED:20250912T073545Z
UID:4359-1760281200-1760288400@sg-journal.de
SUMMARY:Bezirksliga 13. Spieltag
DESCRIPTION:SG St.Nikolaus I – FV Püttlingen I\nSportgelände „Waldeck“\, St.Nikolaus
URL:https://sg-journal.de/event/bezirksliga-13-spieltag/
LOCATION:Saarland
END:VEVENT
BEGIN:VEVENT
DTSTART;TZID=Europe/Berlin:20251012T131500
DTEND;TZID=Europe/Berlin:20251012T170000
DTSTAMP:20260422T142217
CREATED:20250912T073827Z
LAST-MODIFIED:20250912T073827Z
UID:4361-1760274900-1760288400@sg-journal.de
SUMMARY:Kreisliga A 13. Spieltag
DESCRIPTION:SG St.Nikolaus II vs. FV Püttlingen II\nSportgelände „Waldeck“\, St.Nikolaus
URL:https://sg-journal.de/event/kreisliga-a-13-spieltag/
LOCATION:Sportfeld „Waldeck“\, St.Nikolaus\, Merlebacher Str.\, Großrosseln\, Saarland\, 66352\, Germany
END:VEVENT
BEGIN:VEVENT
DTSTART;TZID=Europe/Berlin:20250928T150000
DTEND;TZID=Europe/Berlin:20250928T170000
DTSTAMP:20260422T142217
CREATED:20250912T073222Z
LAST-MODIFIED:20250912T073222Z
UID:4357-1759071600-1759078800@sg-journal.de
SUMMARY:Bezirksliga 11. Spieltag
DESCRIPTION:SG St.Nikolaus I – VfB Luisenthal I\nSportgelände „Waldeck“\, St.Nikolaus
URL:https://sg-journal.de/event/bezirksliga-11-spieltag/
LOCATION:Sportfeld „Waldeck“\, St.Nikolaus\, Merlebacher Str.\, Großrosseln\, Saarland\, 66352\, Germany
END:VEVENT
BEGIN:VEVENT
DTSTART;TZID=Europe/Berlin:20250928T131500
DTEND;TZID=Europe/Berlin:20250928T150000
DTSTAMP:20260422T142217
CREATED:20250922T051654Z
LAST-MODIFIED:20250922T051747Z
UID:4408-1759065300-1759071600@sg-journal.de
SUMMARY:Kreisliga A 11. Spieltag
DESCRIPTION:SG St.Nikolaus II vs. VfB Luisenthal II.\nSportgelände „Waldeck“\, Merlebacher Str.\, St.Nikolaus
URL:https://sg-journal.de/event/kreisliga-a-spieltag-11/
LOCATION:Sportfeld „Waldeck“\, St.Nikolaus\, Merlebacher Str.\, Großrosseln\, Saarland\, 66352\, Germany
CATEGORIES:Kreisliga 25/26
ATTACH;FMTTYPE=image/jpeg:https://sg-journal.de/wp-content/uploads/2025/09/SGN_Matchday_2526_11_01_1.jpg
END:VEVENT
BEGIN:VEVENT
DTSTART;TZID=Europe/Berlin:20250921T150000
DTEND;TZID=Europe/Berlin:20250921T170000
DTSTAMP:20260422T142217
CREATED:20250912T072543Z
LAST-MODIFIED:20250912T072543Z
UID:4355-1758466800-1758474000@sg-journal.de
SUMMARY:Bezirksliga 10. Spieltag
DESCRIPTION:SG St.Nikolaus I – 1. FC Riegelsberg II\nSportgelände „Waldeck“\, St.Nikolaus
URL:https://sg-journal.de/event/bezirksliga-10-spieltag/
LOCATION:Sportfeld „Waldeck“\, St.Nikolaus\, Merlebacher Str.\, Großrosseln\, Saarland\, 66352\, Germany
END:VEVENT
BEGIN:VEVENT
DTSTART;TZID=Europe/Berlin:20250914T153000
DTEND;TZID=Europe/Berlin:20250914T173000
DTSTAMP:20260422T142217
CREATED:20250912T072211Z
LAST-MODIFIED:20250912T072211Z
UID:4353-1757863800-1757871000@sg-journal.de
SUMMARY:Bezirksliga 9. Spieltag
DESCRIPTION:SV Ritterstraße I – SG St.Nikolaus I\nSportplatz Ritterstraße
URL:https://sg-journal.de/event/bezirksliga-9-spieltag/
LOCATION:Saarland
END:VEVENT
BEGIN:VEVENT
DTSTART;TZID=Europe/Berlin:20250914T131500
DTEND;TZID=Europe/Berlin:20250914T150000
DTSTAMP:20260422T142217
CREATED:20250912T072000Z
LAST-MODIFIED:20250912T072000Z
UID:4351-1757855700-1757862000@sg-journal.de
SUMMARY:Kreisliga A 9. Spieltag
DESCRIPTION:SV Ritterstraße II vs. SG St.Nikolaus II\nSportplatz Ritterstraße
URL:https://sg-journal.de/event/kreisliga-a-9-spieltag/
LOCATION:Saarland
END:VEVENT
BEGIN:VEVENT
DTSTART;TZID=Europe/Berlin:20250831T153000
DTEND;TZID=Europe/Berlin:20250831T173000
DTSTAMP:20260422T142217
CREATED:20250722T234536Z
LAST-MODIFIED:20250722T234536Z
UID:3800-1756654200-1756661400@sg-journal.de
SUMMARY:Bezirksliga 7. Spieltag
DESCRIPTION:Röchling Völklingen I. vs. SG St. Nikolaus I.
URL:https://sg-journal.de/event/bezirksliga-7-spieltag/
LOCATION:Saarland
CATEGORIES:Bezirksliga 25/26
END:VEVENT
BEGIN:VEVENT
DTSTART;TZID=Europe/Berlin:20250831T133000
DTEND;TZID=Europe/Berlin:20250831T153000
DTSTAMP:20260422T142217
CREATED:20250723T000047Z
LAST-MODIFIED:20250723T000158Z
UID:3811-1756647000-1756654200@sg-journal.de
SUMMARY:Kreisliga A 7. Spieltag
DESCRIPTION:Röchling Völklingen II. vs. SG St. Nikolaus II.
URL:https://sg-journal.de/event/kreisliga-a-6-spieltag/
LOCATION:Saarland
CATEGORIES:Kreisliga 25/26
END:VEVENT
BEGIN:VEVENT
DTSTART;TZID=Europe/Berlin:20250824T150000
DTEND;TZID=Europe/Berlin:20250824T170000
DTSTAMP:20260422T142217
CREATED:20250722T234321Z
LAST-MODIFIED:20250722T234321Z
UID:3798-1756047600-1756054800@sg-journal.de
SUMMARY:Bezirksliga 6. Spieltag
DESCRIPTION:SG St. Nikolaus I. vs. FC Kandil II.
URL:https://sg-journal.de/event/bezirksliga-6-spieltag/
LOCATION:Sportfeld „Waldeck“\, St.Nikolaus\, Merlebacher Str.\, Großrosseln\, Saarland\, 66352\, Germany
CATEGORIES:Bezirksliga 25/26
END:VEVENT
BEGIN:VEVENT
DTSTART;TZID=Europe/Berlin:20250817T150000
DTEND;TZID=Europe/Berlin:20250817T170000
DTSTAMP:20260422T142217
CREATED:20250722T233835Z
LAST-MODIFIED:20250812T082518Z
UID:3796-1755442800-1755450000@sg-journal.de
SUMMARY:Bezirksliga 5. Spieltag
DESCRIPTION:SG Fenne-Fürstenhausen I. vs. SG St. Nikolaus I.
URL:https://sg-journal.de/event/bezirksliga-5-spieltag/
LOCATION:Saarland
CATEGORIES:Bezirksliga 25/26
ATTACH;FMTTYPE=image/jpeg:https://sg-journal.de/wp-content/uploads/2025/07/SGN_Matchday_2526_05_gross.jpg
END:VEVENT
BEGIN:VEVENT
DTSTART;TZID=Europe/Berlin:20250817T131500
DTEND;TZID=Europe/Berlin:20250817T150000
DTSTAMP:20260422T142217
CREATED:20250722T235711Z
LAST-MODIFIED:20250812T082609Z
UID:3809-1755436500-1755442800@sg-journal.de
SUMMARY:Kreisliga A 5. Spieltag
DESCRIPTION:SG Fenne-Fürstenhausen II. vs. SG St. Nikolaus II.
URL:https://sg-journal.de/event/kreisliga-a-5-spieltag/
LOCATION:Saarland
CATEGORIES:Kreisliga 25/26
ATTACH;FMTTYPE=image/jpeg:https://sg-journal.de/wp-content/uploads/2025/07/SGN_Matchday_2526_05_gross.jpg
END:VEVENT
BEGIN:VEVENT
DTSTART;VALUE=DATE:20250815
DTEND;VALUE=DATE:20250816
DTSTAMP:20260422T142217
CREATED:20250525T093416Z
LAST-MODIFIED:20250525T093416Z
UID:2812-1755216000-1755302399@sg-journal.de
SUMMARY:2. Bubble Soccer Cup
DESCRIPTION:2.  Bubble Soccer Cup\nGespielt wird Bubble Fußball im Turnier-Modus\, die Gewinner-Mannschaft darf sich über tolle Preise von uns und unseren Sponsoren freuen.\nWas ist Bubble Soccer überhaupt ?\nBubble Fußball ist eine spaßige Funsportart. Ihr spielt als Team ( max. 5-7 Spieler ) auf einem Fußballfeld ( ca.25m x 15m Rasenplatz ) gegeneinander gegen andere Teams ca. 6-8 Minuten und versucht so viele Tore zu erzielen wie möglich. Wer die meisten Treffer landet\, der gewinnt das Spiel. Aber Achtung:\ndie Regeln sind nicht wie beim normalen Fußball. Hier ist Körpereinsatz gefragt und ausdrücklich erwünscht. Das sorgt für eine Extraportion Action und Fun. Geschützt durch den Bubble Ball\, könnt Ihr Euch schön über den Haufen rennen.\nSichert euch also schnell einen der begehrten Plätze beim 1. Bubble Soccer Cup ! \nDie Teilnahmegebühr pro Team beträgt 25 €.\n16 Teams können teilnehmen. Schnell sein lohnt sich also. Anmeldung erfolgt per Mail bubbleball@sgn1926.de oder Whatsapp
URL:https://sg-journal.de/event/2-bubble-soccer-cup/
LOCATION:Sportfeld „Waldeck“\, St.Nikolaus\, Merlebacher Str.\, Großrosseln\, Saarland\, 66352\, Germany
ATTACH;FMTTYPE=image/jpeg:https://sg-journal.de/wp-content/uploads/2025/05/BubbleSoccerCup.jpg
END:VEVENT
BEGIN:VEVENT
DTSTART;TZID=Europe/Berlin:20250810T150000
DTEND;TZID=Europe/Berlin:20250810T170000
DTSTAMP:20260422T142217
CREATED:20250722T233127Z
LAST-MODIFIED:20250802T075458Z
UID:3794-1754838000-1754845200@sg-journal.de
SUMMARY:Bezirksliga 4. Spieltag
DESCRIPTION:SG St.Nikolaus I. vs. SC Ay Yildiz
URL:https://sg-journal.de/event/bezirksliga-4-spieltag/
LOCATION:Sportfeld „Waldeck“\, St.Nikolaus\, Merlebacher Str.\, Großrosseln\, Saarland\, 66352\, Germany
CATEGORIES:Bezirksliga 25/26
ATTACH;FMTTYPE=image/jpeg:https://sg-journal.de/wp-content/uploads/2025/07/SGN_Matchday_2526_04-1.jpg
END:VEVENT
BEGIN:VEVENT
DTSTART;TZID=Europe/Berlin:20250810T131500
DTEND;TZID=Europe/Berlin:20250810T150000
DTSTAMP:20260422T142217
CREATED:20250722T235353Z
LAST-MODIFIED:20250802T075405Z
UID:3806-1754831700-1754838000@sg-journal.de
SUMMARY:Kreisliga A 4. Spieltag
DESCRIPTION:SG St. Nikolaus II. vs. SC Ay Yildiz II.
URL:https://sg-journal.de/event/kreisliga-a-4-spieltag/
LOCATION:Sportfeld „Waldeck“\, St.Nikolaus\, Merlebacher Str.\, Großrosseln\, Saarland\, 66352\, Germany
CATEGORIES:Kreisliga 25/26
ATTACH;FMTTYPE=image/jpeg:https://sg-journal.de/wp-content/uploads/2025/07/SGN_Matchday_2526_04-1.jpg
END:VEVENT
BEGIN:VEVENT
DTSTART;TZID=Europe/Berlin:20250803T150000
DTEND;TZID=Europe/Berlin:20250803T170000
DTSTAMP:20260422T142217
CREATED:20250722T232916Z
LAST-MODIFIED:20250802T072219Z
UID:3790-1754233200-1754240400@sg-journal.de
SUMMARY:Bezirksliga 3. Spieltag
DESCRIPTION:SF Saarbrücken I. vs. SG St. Nikolaus I.
URL:https://sg-journal.de/event/bezirksliga-3-spieltag/
LOCATION:Stadion „Saarwiesen“\, Im Höfchen\, 66115 Saarbrücken\, Saarland\, 66115\, Germany
CATEGORIES:Bezirksliga 25/26
ATTACH;FMTTYPE=image/jpeg:https://sg-journal.de/wp-content/uploads/2025/08/SGN_Matchday_2526_03_webI.jpg
END:VEVENT
BEGIN:VEVENT
DTSTART;TZID=Europe/Berlin:20250803T131500
DTEND;TZID=Europe/Berlin:20250803T150000
DTSTAMP:20260422T142217
CREATED:20250722T235143Z
LAST-MODIFIED:20250802T071959Z
UID:3804-1754226900-1754233200@sg-journal.de
SUMMARY:Kreisliga A 3. Spieltag
DESCRIPTION:SF Saarbrücken II. vs. SG St. Nikolaus II.
URL:https://sg-journal.de/event/kreisliga-a-3-spieltag/
LOCATION:Stadion „Saarwiesen“\, Im Höfchen\, 66115 Saarbrücken\, Saarland\, 66115\, Germany
CATEGORIES:Kreisliga 25/26
ATTACH;FMTTYPE=image/jpeg:https://sg-journal.de/wp-content/uploads/2025/08/SGN_Matchday_2526_03_webII.jpg
END:VEVENT
BEGIN:VEVENT
DTSTART;TZID=Europe/Berlin:20250730T190000
DTEND;TZID=Europe/Berlin:20250730T210000
DTSTAMP:20260422T142217
CREATED:20250722T231735Z
LAST-MODIFIED:20250723T095726Z
UID:3788-1753902000-1753909200@sg-journal.de
SUMMARY:Bezirksliga 2. Spieltag
DESCRIPTION:SG St. Nikolaus I. vs. FC Dorf im Warndt I.
URL:https://sg-journal.de/event/bezirksliga-2-spieltag/
LOCATION:Sportfeld „Waldeck“\, St.Nikolaus\, Merlebacher Str.\, Großrosseln\, Saarland\, 66352\, Germany
CATEGORIES:Bezirksliga 25/26
ATTACH;FMTTYPE=image/png:https://sg-journal.de/wp-content/uploads/2025/07/SGN_Matchday_2526_02_DiW.png
END:VEVENT
BEGIN:VEVENT
DTSTART;TZID=Europe/Berlin:20250729T190000
DTEND;TZID=Europe/Berlin:20250729T210000
DTSTAMP:20260422T142217
CREATED:20250722T235012Z
LAST-MODIFIED:20250723T095920Z
UID:3802-1753815600-1753822800@sg-journal.de
SUMMARY:Kreisliga A 2. Spieltag
DESCRIPTION:SG St. Nikolaus II. vs. FSV Lauterbach I.
URL:https://sg-journal.de/event/kreisliga-a-2-spieltag/
LOCATION:Sportfeld „Waldeck“\, St.Nikolaus\, Merlebacher Str.\, Großrosseln\, Saarland\, 66352\, Germany
CATEGORIES:Kreisliga 25/26
ATTACH;FMTTYPE=image/png:https://sg-journal.de/wp-content/uploads/2025/07/SGN_Matchday_2526_02_Lauterbach.png
END:VEVENT
BEGIN:VEVENT
DTSTART;TZID=Europe/Berlin:20250727T150000
DTEND;TZID=Europe/Berlin:20250727T170000
DTSTAMP:20260422T142217
CREATED:20250626T161228Z
LAST-MODIFIED:20250626T161228Z
UID:3382-1753628400-1753635600@sg-journal.de
SUMMARY:Kreisliga A 1. Spieltag
DESCRIPTION:SV Klarenthal I. vs. SG St.Nikolaus II.\n—\nSportplatz Klarenthal\, Anstoss 15:00 Uhr
URL:https://sg-journal.de/event/kreisliga-a-1-spieltag/
LOCATION:Sportplatz Klarenthal\, Schulweg\, 66127 Saarbrücken\, Germany
CATEGORIES:Kreisliga 25/26
ATTACH;FMTTYPE=image/png:https://sg-journal.de/wp-content/uploads/2025/06/SGN_Matchday_KL_252601.png
END:VEVENT
BEGIN:VEVENT
DTSTART;TZID=Europe/Berlin:20250727T131500
DTEND;TZID=Europe/Berlin:20250727T150000
DTSTAMP:20260422T142217
CREATED:20250626T143416Z
LAST-MODIFIED:20250626T143416Z
UID:3372-1753622100-1753628400@sg-journal.de
SUMMARY:Bezirksliga 1. Spieltag
DESCRIPTION:SV Walpershofen II. – SG St.Nikolaus I.\n—\nSportplatz: Walpershofen\nAnstoss: 13:15 Uhr
URL:https://sg-journal.de/event/bezirksliga-1-spieltag/
LOCATION:Sportplatz Walpershofen\, 49.319054\, 6.925804\, Germany
CATEGORIES:Bezirksliga 25/26
ATTACH;FMTTYPE=image/png:https://sg-journal.de/wp-content/uploads/2025/06/SGN_Matchday_BL_252601.png
END:VEVENT
BEGIN:VEVENT
DTSTART;TZID=Europe/Berlin:20250720T180000
DTEND;TZID=Europe/Berlin:20250720T200000
DTSTAMP:20260422T142217
CREATED:20250707T171148Z
LAST-MODIFIED:20250707T171354Z
UID:3566-1753034400-1753041600@sg-journal.de
SUMMARY:Friendly Match: SV Klarenthal
DESCRIPTION:SG St.Nikolaus I. vs. SV Klarenthal\nSportfest „Waldeck“
URL:https://sg-journal.de/event/friendly-match-sv-klarenthal/
LOCATION:Sportfeld „Waldeck“\, St.Nikolaus\, Merlebacher Str.\, Großrosseln\, Saarland\, 66352\, Germany
CATEGORIES:Sportfest
ATTACH;FMTTYPE=image/jpeg:https://sg-journal.de/wp-content/uploads/2025/07/SGJ-2526-friendly_match_klarenthal.jpg
END:VEVENT
BEGIN:VEVENT
DTSTART;TZID=Europe/Berlin:20250719T183000
DTEND;TZID=Europe/Berlin:20250719T183000
DTSTAMP:20260422T142217
CREATED:20250707T170448Z
LAST-MODIFIED:20250707T170642Z
UID:3561-1752949800-1752949800@sg-journal.de
SUMMARY:Friendly Match: Geislautern
DESCRIPTION:SG St.Nikolaus I. vs. SV Geislautern I.\nSportfest „Waldeck“
URL:https://sg-journal.de/event/friendly-match-geislautern/
LOCATION:Sportfeld „Waldeck“\, St.Nikolaus\, Merlebacher Str.\, Großrosseln\, Saarland\, 66352\, Germany
CATEGORIES:Sportfest
ATTACH;FMTTYPE=image/jpeg:https://sg-journal.de/wp-content/uploads/2025/07/SGJ-2526-friendly_match_geislautern1.jpg
END:VEVENT
BEGIN:VEVENT
DTSTART;TZID=Europe/Berlin:20250719T164500
DTEND;TZID=Europe/Berlin:20250719T164500
DTSTAMP:20260422T142217
CREATED:20250707T170151Z
LAST-MODIFIED:20250707T170805Z
UID:3558-1752943500-1752943500@sg-journal.de
SUMMARY:Friendly Match: H.-R.-Höhe
DESCRIPTION:SG St.Nikolaus II. vs. SV Herm.-Röchling-Höhe\nSportfest „Waldeck“
URL:https://sg-journal.de/event/friendly-match-h-r-hoehe/
LOCATION:Sportfeld „Waldeck“\, St.Nikolaus\, Merlebacher Str.\, Großrosseln\, Saarland\, 66352\, Germany
CATEGORIES:Sportfest
ATTACH;FMTTYPE=image/jpeg:https://sg-journal.de/wp-content/uploads/2025/07/SGJ-2526-friendly_match_h-r-hoehe.jpg
END:VEVENT
BEGIN:VEVENT
DTSTART;TZID=Europe/Berlin:20250716T191500
DTEND;TZID=Europe/Berlin:20250716T213000
DTSTAMP:20260422T142217
CREATED:20250624T122743Z
LAST-MODIFIED:20250624T122743Z
UID:3354-1752693300-1752701400@sg-journal.de
SUMMARY:Friendly Match: Rehlingen
DESCRIPTION:Rehlingen – SG St.Nikolaus\n—\nKick Off: 19:15 Uhr
URL:https://sg-journal.de/event/friendly-match-rehlingen/
LOCATION:Saarland
ATTACH;FMTTYPE=image/png:https://sg-journal.de/wp-content/uploads/2025/06/Spielankuendigung_Rehlingen.png
END:VEVENT
END:VCALENDAR