BEGIN:VCALENDAR
VERSION:2.0
PRODID:-//sg-journal.de - ECPv6.15.20//NONSGML v1.0//EN
CALSCALE:GREGORIAN
METHOD:PUBLISH
X-WR-CALNAME:sg-journal.de
X-ORIGINAL-URL:https://sg-journal.de
X-WR-CALDESC:Veranstaltungen für sg-journal.de
REFRESH-INTERVAL;VALUE=DURATION:PT1H
X-Robots-Tag:noindex
X-PUBLISHED-TTL:PT1H
BEGIN:VTIMEZONE
TZID:UTC
BEGIN:STANDARD
TZOFFSETFROM:+0000
TZOFFSETTO:+0000
TZNAME:UTC
DTSTART:20240101T000000
END:STANDARD
END:VTIMEZONE
BEGIN:VEVENT
DTSTART;TZID=UTC:20250525T150000
DTEND;TZID=UTC:20250525T170000
DTSTAMP:20260423T143154
CREATED:20250524T115151Z
LAST-MODIFIED:20250524T115522Z
UID:2778-1748185200-1748192400@sg-journal.de
SUMMARY:Matchday: Altenwald
DESCRIPTION:SG Großrosseln / St.Nikolaus I. vs. SV Eintracht Altenwald I.\n30. Spieltag 24/25 – Landesliga Süd\n\nInf0’s zum Spieltag gibt’s im Stadionheft „Waldeck-Echo“\, das sie als PDF herunterladen können. \n\n 
URL:https://sg-journal.de/event/matchday-altenwald/
LOCATION:Saarland
ATTACH;FMTTYPE=image/jpeg:https://sg-journal.de/wp-content/uploads/2025/05/SGRN_2425_2930.jpg
END:VEVENT
BEGIN:VEVENT
DTSTART;TZID=UTC:20250525T164500
DTEND;TZID=UTC:20250525T182500
DTSTAMP:20260423T143154
CREATED:20250524T095556Z
LAST-MODIFIED:20250524T115442Z
UID:2760-1748191500-1748197500@sg-journal.de
SUMMARY:Matchday: Wehrden
DESCRIPTION:SG Großrosseln / St.Nikolaus II. vs. SV Wehrden I.\n30. Spieltag 24/25 – Bezirksliga Köllertal / Warndt\n\nInf0’s zum Spieltag gibt’s im Stadionheft „Waldeck-Echo“\, das sie als PDF herunterladen können. \n\n 
URL:https://sg-journal.de/event/matchday-sg-gr-stn-ii-vs-sv-werbeln-i/
LOCATION:Sportfeld „Waldeck“\, St.Nikolaus\, Merlebacher Str.\, Großrosseln\, Saarland\, 66352\, Germany
ATTACH;FMTTYPE=image/jpeg:https://sg-journal.de/wp-content/uploads/2025/05/SGRN_2425_2930.jpg
END:VEVENT
BEGIN:VEVENT
DTSTART;TZID=UTC:20250525T190000
DTEND;TZID=UTC:20250525T235900
DTSTAMP:20260423T143154
CREATED:20250525T071023Z
LAST-MODIFIED:20250525T071023Z
UID:2784-1748199600-1748217540@sg-journal.de
SUMMARY:Saisonabschluss - Am "Waldeck"
DESCRIPTION:
URL:https://sg-journal.de/event/saisonabschluss-am-waldeck/
LOCATION:Sportfeld „Waldeck“\, St.Nikolaus\, Merlebacher Str.\, Großrosseln\, Saarland\, 66352\, Germany
END:VEVENT
END:VCALENDAR