BEGIN:VCALENDAR
VERSION:2.0
PRODID:-//sg-journal.de - ECPv6.15.20//NONSGML v1.0//EN
CALSCALE:GREGORIAN
METHOD:PUBLISH
X-WR-CALNAME:sg-journal.de
X-ORIGINAL-URL:https://sg-journal.de
X-WR-CALDESC:Veranstaltungen für sg-journal.de
REFRESH-INTERVAL;VALUE=DURATION:PT1H
X-Robots-Tag:noindex
X-PUBLISHED-TTL:PT1H
BEGIN:VTIMEZONE
TZID:UTC
BEGIN:STANDARD
TZOFFSETFROM:+0000
TZOFFSETTO:+0000
TZNAME:UTC
DTSTART:20240101T000000
END:STANDARD
END:VTIMEZONE
BEGIN:VEVENT
DTSTART;VALUE=DATE:20250815
DTEND;VALUE=DATE:20250816
DTSTAMP:20260422T004217
CREATED:20250525T093416Z
LAST-MODIFIED:20250525T093416Z
UID:2812-1755216000-1755302399@sg-journal.de
SUMMARY:2. Bubble Soccer Cup
DESCRIPTION:2.  Bubble Soccer Cup\nGespielt wird Bubble Fußball im Turnier-Modus\, die Gewinner-Mannschaft darf sich über tolle Preise von uns und unseren Sponsoren freuen.\nWas ist Bubble Soccer überhaupt ?\nBubble Fußball ist eine spaßige Funsportart. Ihr spielt als Team ( max. 5-7 Spieler ) auf einem Fußballfeld ( ca.25m x 15m Rasenplatz ) gegeneinander gegen andere Teams ca. 6-8 Minuten und versucht so viele Tore zu erzielen wie möglich. Wer die meisten Treffer landet\, der gewinnt das Spiel. Aber Achtung:\ndie Regeln sind nicht wie beim normalen Fußball. Hier ist Körpereinsatz gefragt und ausdrücklich erwünscht. Das sorgt für eine Extraportion Action und Fun. Geschützt durch den Bubble Ball\, könnt Ihr Euch schön über den Haufen rennen.\nSichert euch also schnell einen der begehrten Plätze beim 1. Bubble Soccer Cup ! \nDie Teilnahmegebühr pro Team beträgt 25 €.\n16 Teams können teilnehmen. Schnell sein lohnt sich also. Anmeldung erfolgt per Mail bubbleball@sgn1926.de oder Whatsapp
URL:https://sg-journal.de/event/2-bubble-soccer-cup/
LOCATION:Sportfeld „Waldeck“\, St.Nikolaus\, Merlebacher Str.\, Großrosseln\, Saarland\, 66352\, Germany
ATTACH;FMTTYPE=image/jpeg:https://sg-journal.de/wp-content/uploads/2025/05/BubbleSoccerCup.jpg
END:VEVENT
END:VCALENDAR